BEGIN:VCALENDAR
VERSION:2.0
PRODID:gruene-enger.de
METHOD:PUBLISH
BEGIN:VTIMEZONE
TZID:Europe/Berlin
X-LIC-LOCATION:Europe/Berlin
BEGIN:DAYLIGHT
TZOFFSETFROM:+0100
TZOFFSETTO:+0200
TZNAME:CEST
DTSTART:19700329T020000
RRULE:FREQ=YEARLY;INTERVAL=1;BYDAY=-1SU;BYMONTH=3
END:DAYLIGHT
BEGIN:STANDARD
TZOFFSETFROM:+0200
TZOFFSETTO:+0100
TZNAME:CET
DTSTART:19701025T030000
RRULE:FREQ=YEARLY;INTERVAL=1;BYDAY=-1SU;BYMONTH=10
END:STANDARD
END:VTIMEZONE
BEGIN:VEVENT
UID:afd8ef597dd894668d7fe5eae6c8142b@gruene-enger.de
URL;VALUE=URI:https://gruene-enger.de/termine/rat-2/
LOCATION:Rathaus, Bahnhofstraße 44, 32130 Enger, Ratssaal
SUMMARY:Rat
DESCRIPTION;ALTREP="data:text/html,%3Cp%20class%3D%22wp-block-paragraph%2
 2%3ELink%20zur%20Tagesordnung%3A%20https%3A%2F%2Fenger.ratsinfomanagement
 .net%2Ftops%2F%3F__%3DUGhVM0hpd2NXNFdFcExjZYOq0Za4qUWU6u3C14WyUo0%3C%2Fp%
 3E":Link zur Tagesordnung: https://enger.ratsinfomanagement.net/tops/?__=
 UGhVM0hpd2NXNFdFcExjZYOq0Za4qUWU6u3C14WyUo0
CLASS:PUBLIC
DTSTART;TZID=Europe/Berlin:20260716T180000
DTEND;TZID=Europe/Berlin:20260716T193000
DTSTAMP:20260423T103627
END:VEVENT
END:VCALENDAR