BEGIN:VCALENDAR
VERSION:2.0
PRODID:gruene-enger.de
METHOD:PUBLISH
BEGIN:VTIMEZONE
TZID:Europe/Berlin
X-LIC-LOCATION:Europe/Berlin
BEGIN:DAYLIGHT
TZOFFSETFROM:+0100
TZOFFSETTO:+0200
TZNAME:CEST
DTSTART:19700329T020000
RRULE:FREQ=YEARLY;INTERVAL=1;BYDAY=-1SU;BYMONTH=3
END:DAYLIGHT
BEGIN:STANDARD
TZOFFSETFROM:+0200
TZOFFSETTO:+0100
TZNAME:CET
DTSTART:19701025T030000
RRULE:FREQ=YEARLY;INTERVAL=1;BYDAY=-1SU;BYMONTH=10
END:STANDARD
END:VTIMEZONE
BEGIN:VEVENT
UID:63d688fb894a9bf962f6df2a4832fe6a@gruene-enger.de
URL;VALUE=URI:https://gruene-enger.de/termine/vortrag-zum-thema-einbruchs
 chutz/
LOCATION:Widukind Museum in Enger
SUMMARY:(Vortrag zum Thema Einbruchschutz) muss leider ausfallen!!!!!
DESCRIPTION;ALTREP="data:text/html,%0A%3Cp%20class%3D%22wp-block-paragrap
 h%22%3E%3Cbr%3EEin%20Mitarbeiter%20der%20Kriminalpolizei%20wird%20am%20Do
 nnerstag%2C%2023.11.%20einen%20Vortrag%20zum%3Cbr%3EThema%20Einbruchschut
 z%20und%20Sicherheit%20halten.%3Cbr%3EAls%20Veranstalter%20l%C3%A4dt%20de
 r%20Stadtverband%20von%20B%C3%BCndnis%E2%80%9990%2FDie%20Gr%C3%BCnen%20En
 ger%20dazu%20alle%3Cbr%3EInteressierten%20ins%20Widukind-Museum%20Enger%2
 0ein.%3Cbr%3EUnter%20anderem%20wird%20es%20um%20sicherheitstechnische%20A
 spekte%20an%20H%C3%A4usern%20und%3Cbr%3EGrundst%C3%BCcken%20gehen.%3Cbr%3
 EDer%20Vortrag%20beginnt%20um%2019%20Uhr.%3C%2Fp%3E%0A":Ein Mitarbeiter d
 er Kriminalpolizei wird am Donnerstag\, 23.11. einen Vortrag zumThema Ein
 bruchschutz und Sicherheit halten.Als Veranstalter lädt der Stadtverband
  von Bündnis’90/Die Grünen Enger dazu alleInteressierten ins Widukind
 -Museum Enger ein.Unter anderem wird es um sicherheitstechnische Aspekte 
 an Häusern undGrundstücken gehen.Der Vortrag beginnt um 19 Uhr.
CLASS:PUBLIC
DTSTART;TZID=Europe/Berlin:20231123T131500
DTEND;TZID=Europe/Berlin:20231123T131500
DTSTAMP:20260423T102939
END:VEVENT
END:VCALENDAR